BEGIN:VCALENDAR
VERSION:2.0
PRODID:-//Lumas Winds - ECPv6.15.20//NONSGML v1.0//EN
CALSCALE:GREGORIAN
METHOD:PUBLISH
X-ORIGINAL-URL:https://lumaswinds.com
X-WR-CALDESC:Events for Lumas Winds
REFRESH-INTERVAL;VALUE=DURATION:PT1H
X-Robots-Tag:noindex
X-PUBLISHED-TTL:PT1H
BEGIN:VTIMEZONE
TZID:UTC
BEGIN:STANDARD
TZOFFSETFROM:+0000
TZOFFSETTO:+0000
TZNAME:UTC
DTSTART:20210101T000000
END:STANDARD
END:VTIMEZONE
BEGIN:VEVENT
DTSTART;TZID=UTC:20220728T130500
DTEND;TZID=UTC:20220728T130500
DTSTAMP:20260421T144535
CREATED:20220809T184124Z
LAST-MODIFIED:20220809T184124Z
UID:866-1659013500-1659013500@lumaswinds.com
SUMMARY:St Mary-le-Bow
DESCRIPTION:Programme: \nSally Beamish The Naming of Birds \nOliver Knussen Three Little Fantasies \nElizabeth Maconchy Wind Quintet \n 
URL:https://lumaswinds.com/concert/st-mary-le-bow/
LOCATION:St Mary-le-Bow\, Cheapside\, London\, EC2V 6AU
END:VEVENT
BEGIN:VEVENT
DTSTART;TZID=UTC:20220722T130000
DTEND;TZID=UTC:20220722T130000
DTSTAMP:20260421T144535
CREATED:20220809T183314Z
LAST-MODIFIED:20220809T183314Z
UID:860-1658494800-1658494800@lumaswinds.com
SUMMARY:St James's\, Sussex Gardens
DESCRIPTION:Programme: \nJ.S Bach Fugue in G minor\, BWV 578 (arr. Christopher Weait) \nOliver Knussen Three Little Fantasies \nThea Musgrave Wind Quintet \nGavin Higgins After Fallout…
URL:https://lumaswinds.com/concert/st-jamess-sussex-gardens/
LOCATION:St James’s\, Sussex Gardens\, Paddington\, London\, W2 3UD
END:VEVENT
BEGIN:VEVENT
DTSTART;TZID=UTC:20220720T130000
DTEND;TZID=UTC:20220720T130000
DTSTAMP:20260421T144535
CREATED:20220809T183858Z
LAST-MODIFIED:20220809T183858Z
UID:863-1658322000-1658322000@lumaswinds.com
SUMMARY:St Olave's\, Hart Street
DESCRIPTION:Programme: \nSally Beamish The Naming of Birds \nThea Musgrave Wind Quintet \nGunther Schuller Suite for Wind Quintet \nGavin Higgins After Fallout…
URL:https://lumaswinds.com/concert/st-olaves-hart-street/
LOCATION:St Olave’s\, 8 Hart Street\, London\, EC3R 7NB
END:VEVENT
END:VCALENDAR